Workbook

Sheet Оглавление
D1: ОГЛАВЛЕНИЕ
D3: Прайс-лист на 05.11.2026
D4: Информация, размещённая в настоящем прайс-листе, носит справочный характер и не является публичной офертой, определённой положениями Статьи 437, часть 2 ГК РФ.
C6: 01. ДИЗЕЛЬНЫЕ винтовые компрессоры от 7 до 40 бар
D7: 01.01. Дизельные передвижные компрессоры 7-18 бар
D8: 01.01.01. Дизельные c двигателем FAW
D9: 01.01.02. Дизельные c двигателем FAW на шасси
D10: 01.01.03. Дизельные c двигателями ММЗ, ЯМЗ
D11: 01.01.04. Дизельные c двигателями ММЗ, ЯМЗ на шасси
D12: 01.02. Дизельные передвижные компрессоры 20-40 бар
D13: 01.03. Опции и прицепы к дизельным компрессорам
D14: 01.03.01. Прицепы до 0,56т
D15: 01.03.02. Прицепы от 0,56т до 1,5т
D16: 01.03.03. Прицепы от 1,5т до 1,8т
D17: 01.03.04. Прицепы от 1,8 до 3,5т
D18: 01.03.05. Прицепы свыше 3,5т
... D20: 01.04. Дизельные передвижные нестандартные и проектные
C22: 02. ЭЛЕКТРИЧЕСКИЕ винтовые компрессоры от 7,5 до 400 кВт
D23: 02.01. Электрические стационарные (7,5 - 355 кВт) от +1 ˚С
D24: 02.01.01. Электрические 7,5 - 75 кВт
D25: 02.01.02. Электрические компрессоры 90 - 355 кВт
D26: 02.02. Электрические стационарные (7,5 - 355 кВт) от +1 ˚С с частотным регулированием
D27: 02.02.01. Электрические 7,5 - 75 кВт с частотным регулированием
D28: 02.02.02. Электрические 90 - 355 кВт с частотным регулированием
D29: 02.03. Электрические передвижные. Полная защита от осадков (18,5 - 90 кВт) до -40 ˚С
D30: 02.03.01. Передвижные до -40 ˚С. Полная защита от осадков
D31: 02.03.02. Стационарные до -40 ˚С. Для работы под крышей
D32: 02.03.03. Опции к электрическим компрессорным станциям
D33: 02.04. Электрические стационарные на ресивере (7,5 - 22 кВт)
D34: 02.04.01. На ресивере 7,5-22 кВт с осушителем
... D39: 02.05. Электрические винтовые нестандартные и проектные компрессоры до 400 кВт
C41: 03. ВЗРЫВОЗАЩИЩЁННЫЕ (ExI, ExIIG, Mb), Рудничные компрессоры
D42: 03.01. Взрывозащищенные шахтные (ExI M): ЗИФ-ШВ
D43: 03.02. Рудничные (Для тяжелых условий): ЗИФ-СВЭ-РН
D44: 03.03. Взрывозащищенные (Ex II G с ПВ Т4): ЗИФ-СВЭ-Ex
D45: 03.04. Взрывозащищенные нестандартные и проектные компрессоры
C47: 04. БЕЗМАСЛЯНЫЕ компрессоры от 0,55 до 250 кВт
D48: 04.01. Безмасляные винтовые (45-250 кВт)
D49: 04.01.01. Безмасляные винтовые 45-250 кВт
D50: 04.01.02. Безмасляные винтовые 45-250 кВт с частотным регулированием
...

Sheet 1. Дизельные
B2: 01. ДИЗЕЛЬНЫЕ винтовые компрессоры от 7 до 40 бар
A4: Оглавление
A5: 01.01. Дизельные передвижные компрессоры 7-18 бар
A6: 01.01.01. Дизельные c двигателем FAW
A7: 01.01.02. Дизельные c двигателем FAW на шасси
A8: 01.01.03. Дизельные c двигателями ММЗ, ЯМЗ
A9: 01.01.04. Дизельные c двигателями ММЗ, ЯМЗ на шасси
A10: 01.02. Дизельные передвижные компрессоры 20-40 бар
A11: 01.03. Опции и прицепы к дизельным компрессорам
A12: 01.03.01. Прицепы до 0,56т
A13: 01.03.02. Прицепы от 0,56т до 1,5т
A14: 01.03.03. Прицепы от 1,5т до 1,8т
A15: 01.03.04. Прицепы от 1,8 до 3,5т
... A18: 01.04. Дизельные передвижные нестандартные и проектные
A20: 1 | B20: =A20+1 -> 2 | C20: =B20+1 -> 3 | D20: =C20+1 -> 4 | E20: =D20+1 -> 5 | F20: =E20+1 -> 6 | G20: =F20+1 -> 7 | H20: =G20+1 -> 8 | I20: =H20+1 -> 9 | ... BV20: =BU20+1 -> 74
A21: Артикул | B21: Модель/краткое наименование | C21: Наименование для сайта | D21: Производи-тельность, м3/мин | E21: Производи-тельность, м3/ч | F21: Производи-тельность, фунт в мин (PPM) | G21: Давление на входе (бар избыт.) | H21: Давление на выходе (бар избыт.) | I21: Рабочее давление, PSIG | J21: Мощность, кВт | K21: Точка росы, °C | L21: Чистота азота, % | M21: Расход воздуха (на выработку азота) , м3/ч | N21: Расход воздуха (на выработку азота) , м3/мин | O21: Коэффициент «воздух-азот» | P21: Диапазон температуры эксплуатации, °C | Q21: Габаритные размеры, ДхШхВ, мм | R21: Длина, мм | S21: Ширина, мм | T21: Высота, мм | U21: Масса (нетто), кг | V21: Место расположения | W21: Диаметры точек подключения | X21: Номинальный диаметр точки подключения на входе | Y21: Номинальный диаметр точки подключения на выходе | Z21: Допустимая влажность окружающего воздуха, % | AA21: Максимальная высота над уронем моря, м | AB21: Тип охлаждения | AC21: Доступные опции | AD21: Аналоги по параметрам | AE21: Состав газа | AF21: Содержание масла в сжатом воздухе, не более, мг/м3 | AG21: Максимальная рабочая тепература масла, ℃ | AH21: Минимальное рабочее давление, бар | AI21: Макс. t сжатого воздуха на входе, °C | AJ21: Макc. t сжатого воздуха на выходе, °C | AK21: Количество заправки компрессорного масла, л | AL21: Количество заправки моторного масла, л | AM21: Объём воздуха для охлаждения станции, м3/мин | AN21: Уровень шума, дБ | AO21: Тип системы управления | AP21: Датчики и устройства защиты | AQ21: Функции системы управления | AR21: Прицеп/шасси/рама | AS21: Тип привода | AT21: Тип двигателя | AU21: Тип компрессорного блока | AV21: Безмасляный/маслозаполненный | AW21: Тип электродвигателя | AX21: Способ регулирования производительности | AY21: Метод запуска | AZ21: Наличие частного регулирования | BA21: Марка двигателя | BB21: Частота вращения двигателя, об/мин | BC21: Частота вращения двигателя максимальная, об/мин | BD21: Объём двигателя, л . | BE21: Расход топлива, кг/час | BF21: Ёмкость топливного бака, л | BG21: Параметры электросети | BH21: Класс изоляции электродвигателя | BI21: Класс энергоэффективности электродвигателя | BJ21: Степень защиты двигателя (IP) | BK21: Минимальное сечение медного кабеля для подключения станции, мм2 | BL21: Класс взрывозащиты (исполнение) | BM21: Мощность вентиляторов охлаждения, кВт | BN21: Тип регенерации | BO21: Степень очистки | BP21: Количество ступеней | BQ21: Количество цилиндров | BR21: Объем ресивера, литр | BS21: Минимальный объем ресивера, м3 | BT21: Свойства прицепа | BU21: Срок производства | BV21: Цена, руб. с НДС
A22: 01.01. Дизельные передвижные компрессоры 7-18 бар | C22: 01.01. Дизельные передвижные компрессоры 7-18 бар
A23: 01.01.01. Дизельные c двигателем FAW | C23: 01.01.01. Дизельные c двигателем FAW
A24: ЗИФ-00043558 | B24: ЗИФ-ПВ-3,5/0,7 F-R | C24: Компрессор ЗИФ дизельный 3,5 м3/мин, 7 бар. ЗИФ-ПВ-3,5/0,7 F-R | D24: 3.5 | G24: 0 | H24: 7 | J24: 33 | P24: -25...+40 | Q24: 1642*969*1286 | R24: =LEFTB(Q24, FIND("*", Q24) - 1) -> 1642 | S24: =MID(Q24, FIND("*", Q24) + 1, FIND("*", Q24, FIND("*", Q24) + 1) - FIND("*", Q24) - 1) -> 969 | T24: =RIGHTB(Q24, LEN(Q24) - FIND("*", Q24, FIND("*", Q24) + 1)) -> 1286 | U24: 588 | V24: Уличное | W24: 2хG3/4" | Z24: 98 | AA24: 1500 | AB24: Воздушное | AC24: ЗИФ-00044608;ЗИФ-00044607 | AD24: Похож на Atlas Copco XAS 67 Dd, Atlas Copco XAS 68 Kd | AE24: Воздух | AF24: ≤3,5 | AG24: 110 | AH24: 3,5 | AJ24: Плюс 40 ℃ к входной | AK24: 13 | AN24: ≤80 | AO24: Аналоговое | AP24: Перегрев двигателя; перегрев масла компрессора; падение давления масла двигателя; превышение давления нагнетания в маслоотделителе; обрыв ремней генератора. | AQ24: Пуск/Стоп; подогрев; индикация: наработки в м/ч, количество топлива, температура масла двигателя, давления нагнетания в маслоотделителе; аварийная сигнализация: перегрев двигателя, отсутствие давление масла в двигателе, разряд АКБ. | AR24: На раме | AS24: Прямой, через сцепление | AT24: Дизельный (FAW) | AU24: Винтовой | AV24: Маслозаполнный | AX24: Изменение оборотов двигателя+ дросселирование на всасывании | AY24: Электростартер | BA24: FAW-4DW91 | BB24: 2900 | BD24: 2.16 | BE24: 7.3 | BF24: 50 | BU24: В наличии | BV24: =VLOOKUP(A24,'[1]01. Дизельные винтовые'!$G:$CD,76,0) -> 854019.09
A25: ЗИФ-00046743 | B25: ЗИФ-ПВ-3,5/0,8 F-R | C25: Компрессор ЗИФ дизельный 3,5 м3/мин, 8 бар. ЗИФ-ПВ-3,5/0,8 F-R | D25: 3.5 | G25: 0 | H25: 8 | J25: 33 | P25: -25...+40 | Q25: 1642*969*1286 | R25: 1642 | S25: 969 | T25: 1286 | U25: 588 | V25: Уличное | W25: 2хG3/4" | Z25: 98 | AA25: 1500 | AB25: Воздушное | AC25: ЗИФ-00044608;ЗИФ-00044607 | AD25: Похож на Atlas Copco XAS 67 Dd, Atlas Copco XAS 68 Kd | AE25: Воздух | AF25: ≤3,5 | AG25: 110 | AH25: 3,5 | AJ25: Плюс 40 ℃ к входной | AK25: 13 | AN25: ≤80 | AO25: Аналоговое | AP25: Перегрев двигателя; перегрев масла компрессора; падение давления масла двигателя; превышение давления нагнетания в маслоотделителе; обрыв ремней генератора. | AQ25: Пуск/Стоп; подогрев; индикация: наработки в м/ч, количество топлива, температура масла двигателя, давления нагнетания в маслоотделителе; аварийная сигнализация: перегрев двигателя, отсутствие давление масла в двигателе, разряд АКБ. | AR25: На раме | AS25: Прямой, через сцепление | AT25: Дизельный (FAW) | AU25: Винтовой | AV25: Маслозаполнный | AX25: Изменение оборотов двигателя+ дросселирование на всасывании | AY25: Электростартер | BA25: FAW-4DW91 | BB25: 2900 | BD25: 2.16 | BE25: 7.3 | BF25: 50 | BU25: В наличии | BV25: =VLOOKUP(A25,'[1]01. Дизельные винтовые'!$G:$CD,76,0) -> 854019.09
A26: ЗИФ-00043559 | B26: ЗИФ-ПВ-5/0,7 F-R | C26: Компрессор ЗИФ дизельный 5 м3/мин, 7 бар. ЗИФ-ПВ-5/0,7 F-R | D26: 5 | G26: 0 | H26: 7 | J26: 33 | P26: -25...+40 | Q26: 2014*1244*1478 | R26: =LEFTB(Q26, FIND("*", Q26) - 1) -> 2014 | S26: =MID(Q26, FIND("*", Q26) + 1, FIND("*", Q26, FIND("*", Q26) + 1) - FIND("*", Q26) - 1) -> 1244 | T26: =RIGHTB(Q26, LEN(Q26) - FIND("*", Q26, FIND("*", Q26) + 1)) -> 1478 | U26: 850 | V26: Уличное | W26: 3хG3/4" | Z26: 98 | AA26: 1500 | AB26: Воздушное | AC26: ЗИФ-00044609;ЗИФ-00044610;ЗИФ-00044611;ЗИФ-00018818;ЗИФ-00044576;ЗИФ-00044575 | AD26: Похож на Atlas Copco XAS 87 Kd, XAS 88 Kd | AE26: Воздух | AF26: ≤3,5 | AG26: 110 | AH26: 3,5 | AJ26: Плюс 40 ℃ к входной | AK26: 13 | AN26: ≤85 | AO26: Аналоговое | AP26: Перегрев двигателя; перегрев масла компрессора; падение давления масла двигателя; превышение давления нагнетания в маслоотделителе; обрыв ремней генератора. | AQ26: Пуск/Стоп; подогрев; индикация: наработки в м/ч, количество топлива, температура масла двигателя, давления нагнетания в маслоотделителе; аварийная сигнализация: перегрев двигателя, отсутствие давление масла в двигателе, разряд АКБ. | AR26: На раме | AS26: Прямой, через сцепление | AT26: Дизельный (FAW) | AU26: Винтовой | AV26: Маслозаполнный | AX26: Изменение оборотов двигателя+ дросселирование на всасывании | AY26: Электростартер | BA26: FAW-4DW91 | BB26: 2900 | BD26: 2.16 | BE26: 7.3 | BF26: 80 | BU26: В наличии | BV26: =VLOOKUP(A26,'[1]01. Дизельные винтовые'!$G:$CD,76,0) -> 995129.52
A27: ЗИФ-00046744 | B27: ЗИФ-ПВ-5/0,8 F-R | C27: Компрессор ЗИФ дизельный 5 м3/мин, 8 бар. ЗИФ-ПВ-5/0,8 F-R | D27: 5 | G27: 0 | H27: 8 | J27: 33 | P27: -25...+40 | Q27: 2014*1244*1478 | R27: =LEFTB(Q27, FIND("*", Q27) - 1) -> 2014 | S27: =MID(Q27, FIND("*", Q27) + 1, FIND("*", Q27, FIND("*", Q27) + 1) - FIND("*", Q27) - 1) -> 1244 | T27: =RIGHTB(Q27, LEN(Q27) - FIND("*", Q27, FIND("*", Q27) + 1)) -> 1478 | U27: 850 | V27: Уличное | W27: 3хG3/4" | Z27: 98 | AA27: 1500 | AB27: Воздушное | AC27: ЗИФ-00044609;ЗИФ-00044610;ЗИФ-00044611;ЗИФ-00018818;ЗИФ-00044576;ЗИФ-00044576 | AD27: Похож на Atlas Copco XAS 87 Kd, XAS 88 Kd | AE27: Воздух | AF27: ≤3,5 | AG27: 110 | AH27: 3,5 | AJ27: Плюс 40 ℃ к входной | AK27: 13 | AN27: ≤85 | AO27: Аналоговое | AP27: Перегрев двигателя; перегрев масла компрессора; падение давления масла двигателя; превышение давления нагнетания в маслоотделителе; обрыв ремней генератора. | AQ27: Пуск/Стоп; подогрев; индикация: наработки в м/ч, количество топлива, температура масла двигателя, давления нагнетания в маслоотделителе; аварийная сигнализация: перегрев двигателя, отсутствие давление масла в двигателе, разряд АКБ. | AR27: На раме | AS27: Прямой, через сцепление | AT27: Дизельный (FAW) | AU27: Винтовой | AV27: Маслозаполнный | AX27: Изменение оборотов двигателя+ дросселирование на всасывании | AY27: Электростартер | BA27: FAW-4DW91 | BB27: 2900 | BD27: 2.16 | BE27: 7.3 | BF27: 80 | BU27: В наличии | BV27: =VLOOKUP(A27,'[1]01. Дизельные винтовые'!$G:$CD,76,0) -> 995129.52
A28: ЗИФ-00043560 | B28: ЗИФ-ПВ-6,5/0,7 F-R | C28: Компрессор ЗИФ дизельный 6,5 м3/мин, 7 бар. ЗИФ-ПВ-6,5/0,7 F-R | D28: 6.5 | G28: 0 | H28: 7 | J28: 50 | P28: -25...+40 | Q28: 2014*1244*1478 | R28: =LEFTB(Q28, FIND("*", Q28) - 1) -> 2014 | S28: =MID(Q28, FIND("*", Q28) + 1, FIND("*", Q28, FIND("*", Q28) + 1) - FIND("*", Q28) - 1) -> 1244 | T28: =RIGHTB(Q28, LEN(Q28) - FIND("*", Q28, FIND("*", Q28) + 1)) -> 1478 | U28: 860 | V28: Уличное | W28: 3хG3/4" | Z28: 98 | AA28: 1500 | AB28: Воздушное | AC28: ЗИФ-00044609;ЗИФ-00044610;ЗИФ-00044611;ЗИФ-00018818;ЗИФ-00044576;ЗИФ-00044577 | AD28: Похож на Atlas Copco U250, Atlas Copco XAS 138 | AE28: Воздух | AF28: ≤3,5 | AG28: 110 | AH28: 3,5 | AJ28: Плюс 40 ℃ к входной | AK28: 13 | AN28: ≤85 | AO28: Аналоговое | AP28: Перегрев двигателя; перегрев масла компрессора; падение давления масла двигателя; превышение давления нагнетания в маслоотделителе; обрыв ремней генератора. | AQ28: Пуск/Стоп; подогрев; индикация: наработки в м/ч, количество топлива, температура масла двигателя, давления нагнетания в маслоотделителе; аварийная сигнализация: перегрев двигателя, отсутствие давление масла в двигателе, разряд АКБ. | AR28: На раме | AS28: Прямой, через сцепление | AT28: Дизельный (FAW) | AU28: Винтовой | AV28: Маслозаполнный | AX28: Изменение оборотов двигателя+ дросселирование на всасывании | AY28: Электростартер | BA28: FAW-4DW92 | BB28: 2900 | BD28: 2.16 | BE28: 10.6 | BF28: 80 | BU28: В наличии | BV28: =VLOOKUP(A28,'[1]01. Дизельные винтовые'!$G:$CD,76,0) -> 1283101.8
A29: ЗИФ-00046745 | B29: ЗИФ-ПВ-6,5/0,8 F-R | C29: Компрессор ЗИФ дизельный 6,5 м3/мин, 8 бар. ЗИФ-ПВ-6,5/0,8 F-R | D29: 6.5 | G29: 0 | H29: 8 | J29: 50 | P29: -25...+40 | Q29: 2014*1244*1478 | R29: =LEFTB(Q29, FIND("*", Q29) - 1) -> 2014 | S29: =MID(Q29, FIND("*", Q29) + 1, FIND("*", Q29, FIND("*", Q29) + 1) - FIND("*", Q29) - 1) -> 1244 | T29: =RIGHTB(Q29, LEN(Q29) - FIND("*", Q29, FIND("*", Q29) + 1)) -> 1478 | U29: 860 | V29: Уличное | W29: 3хG3/4" | Z29: 98 | AA29: 1500 | AB29: Воздушное | AC29: ЗИФ-00044609;ЗИФ-00044610;ЗИФ-00044611;ЗИФ-00018818;ЗИФ-00044576;ЗИФ-00044578 | AD29: Похож на Atlas Copco U250, Atlas Copco XAS 138 | AE29: Воздух | AF29: ≤3,5 | AG29: 110 | AH29: 3,5 | AJ29: Плюс 40 ℃ к входной | AK29: 13 | AN29: ≤85 | AO29: Аналоговое | AP29: Перегрев двигателя; перегрев масла компрессора; падение давления масла двигателя; превышение давления нагнетания в маслоотделителе; обрыв ремней генератора. | AQ29: Пуск/Стоп; подогрев; индикация: наработки в м/ч, количество топлива, температура масла двигателя, давления нагнетания в маслоотделителе; аварийная сигнализация: перегрев двигателя, отсутствие давление масла в двигателе, разряд АКБ. | AR29: На раме | AS29: Прямой, через сцепление | AT29: Дизельный (FAW) | AU29: Винтовой | AV29: Маслозаполнный | AX29: Изменение оборотов двигателя+ дросселирование на всасывании | AY29: Электростартер | BA29: FAW-4DW92 | BB29: 2900 | BD29: 2.16 | BE29: 10.6 | BF29: 80 | BU29: В наличии | BV29: =VLOOKUP(A29,'[1]01. Дизельные винтовые'!$G:$CD,76,0) -> 1283101.8
A30: ЗИФ-00043645 | B30: ЗИФ-ПВ-8,5/0,7 F-R | C30: Компрессор ЗИФ дизельный 8,5 м3/мин, 7 бар. ЗИФ-ПВ-8,5/0,7 F-R | D30: 8.5 | G30: 0 | H30: 7 | J30: 50 | P30: -25...+40 | Q30: 2014*1244*1478 | R30: =LEFTB(Q30, FIND("*", Q30) - 1) -> 2014 | S30: =MID(Q30, FIND("*", Q30) + 1, FIND("*", Q30, FIND("*", Q30) + 1) - FIND("*", Q30) - 1) -> 1244 | T30: =RIGHTB(Q30, LEN(Q30) - FIND("*", Q30, FIND("*", Q30) + 1)) -> 1478 | U30: 860 | V30: Уличное | W30: 3хG3/4" | Z30: 98 | AA30: 1500 | AB30: Воздушное | AC30: ЗИФ-00044609;ЗИФ-00044610;ЗИФ-00044611;ЗИФ-00018818;ЗИФ-00044576;ЗИФ-00044579 | AD30: Похож на Atlas Copco XAS 137 Kd | AE30: Воздух | AF30: ≤3,5 | AG30: 110 | AH30: 3,5 | AJ30: Плюс 40 ℃ к входной | AK30: 13 | AN30: ≤85 | AO30: Аналоговое | AP30: Перегрев двигателя; перегрев масла компрессора; падение давления масла двигателя; превышение давления нагнетания в маслоотделителе; обрыв ремней генератора. | AQ30: Пуск/Стоп; подогрев; индикация: наработки в м/ч, количество топлива, температура масла двигателя, давления нагнетания в маслоотделителе; аварийная сигнализация: перегрев двигателя, отсутствие давление масла в двигателе, разряд АКБ. | AR30: На раме | AS30: Прямой, через сцепление | AT30: Дизельный (FAW) | AU30: Винтовой | AV30: Маслозаполнный | AX30: Изменение оборотов двигателя+ дросселирование на всасывании | AY30: Электростартер | BA30: FAW-4DW92 | BB30: 2900 | BD30: 2.16 | BE30: 10.6 | BF30: 80 | BU30: В наличии | BV30: =VLOOKUP(A30,'[1]01. Дизельные винтовые'!$G:$CD,76,0) -> 1224814.8
A31: ЗИФ-00046746 | B31: ЗИФ-ПВ-8,5/0,8 F-R | C31: Компрессор ЗИФ дизельный 8,5 м3/мин, 8 бар. ЗИФ-ПВ-8,5/0,8 F-R | D31: 8.5 | G31: 0 | H31: 8 | J31: 50 | P31: -25...+40 | Q31: 2014*1244*1478 | R31: =LEFTB(Q31, FIND("*", Q31) - 1) -> 2014 | S31: =MID(Q31, FIND("*", Q31) + 1, FIND("*", Q31, FIND("*", Q31) + 1) - FIND("*", Q31) - 1) -> 1244 | T31: =RIGHTB(Q31, LEN(Q31) - FIND("*", Q31, FIND("*", Q31) + 1)) -> 1478 | U31: 860 | V31: Уличное | W31: 3хG3/4" | Z31: 98 | AA31: 1500 | AB31: Воздушное | AC31: ЗИФ-00044609;ЗИФ-00044610;ЗИФ-00044611;ЗИФ-00018818;ЗИФ-00044576;ЗИФ-00044580 | AD31: Похож на Atlas Copco XAS 137 Kd | AE31: Воздух | AF31: ≤3,5 | AG31: 110 | AH31: 3,5 | AJ31: Плюс 40 ℃ к входной | AK31: 13 | AN31: ≤85 | AO31: Аналоговое | AP31: Перегрев двигателя; перегрев масла компрессора; падение давления масла двигателя; превышение давления нагнетания в маслоотделителе; обрыв ремней генератора. | AQ31: Пуск/Стоп; подогрев; индикация: наработки в м/ч, количество топлива, температура масла двигателя, давления нагнетания в маслоотделителе; аварийная сигнализация: перегрев двигателя, отсутствие давление масла в двигателе, разряд АКБ. | AR31: На раме | AS31: Прямой, через сцепление | AT31: Дизельный (FAW) | AU31: Винтовой | AV31: Маслозаполнный | AX31: Изменение оборотов двигателя+ дросселирование на всасывании | AY31: Электростартер | BA31: FAW-4DW92 | BB31: 2900 | BD31: 2.16 | BE31: 10.6 | BF31: 80 | BU31: В наличии | BV31: =VLOOKUP(A31,'[1]01. Дизельные винтовые'!$G:$CD,76,0) -> 1224814.8
A32: ЗИФ-00043561 | B32: ЗИФ-ПВ-12/0,7 F-R | C32: Компрессор ЗИФ дизельный 12 м3/мин, 7 бар. ЗИФ-ПВ-12/0,7 F-R | D32: 12 | G32: 0 | H32: 7 | J32: 80 | P32: -25...+40 | Q32: 2270*1244*1500 | R32: =LEFTB(Q32, FIND("*", Q32) - 1) -> 2270 | S32: =MID(Q32, FIND("*", Q32) + 1, FIND("*", Q32, FIND("*", Q32) + 1) - FIND("*", Q32) - 1) -> 1244 | T32: =RIGHTB(Q32, LEN(Q32) - FIND("*", Q32, FIND("*", Q32) + 1)) -> 1500 | U32: 1500 | V32: Уличное | W32: 3хG3/4"+1хG1-1/2" | Z32: 98 | AA32: 1500 | AB32: Воздушное | AC32: ЗИФ-00044609;ЗИФ-00044610;ЗИФ-00044611;ЗИФ-00018818;ЗИФ-00044576;ЗИФ-00044581 | AD32: Похож на Atlas Copco XAS 375, Atlas Copco XAHS 400 PACE | AE32: Воздух | AF32: ≤3,5 | AG32: 110 | AH32: 3,5 | AJ32: Плюс 40 ℃ к входной | AK32: 23 | AN32: ≤85 | AO32: Аналоговое | AP32: Перегрев двигателя; перегрев масла компрессора; падение давления масла двигателя; превышение давления нагнетания в маслоотделителе; обрыв ремней генератора. | AQ32: Пуск/Стоп; подогрев; индикация: наработки в м/ч, количество топлива, температура масла двигателя, давления нагнетания в маслоотделителе; аварийная сигнализация: перегрев двигателя, отсутствие давление масла в двигателе, разряд АКБ. | AR32: На раме | AS32: Прямой, через сцепление | AT32: Дизельный (FAW) | AU32: Винтовой | AV32: Маслозаполнный | AX32: Изменение оборотов двигателя+ дросселирование на всасывании | AY32: Электростартер | BA32: 4DX22-110G2 | BB32: 3000 | BD32: 3.8 | BE32: 17.6 | BF32: 80 | BU32: В наличии | BV32: =VLOOKUP(A32,'[1]01. Дизельные винтовые'!$G:$CD,76,0) -> 1537249.2
A33: ЗИФ-00043562 | B33: ЗИФ-ПВ-5,5/1,0 F-R | C33: Компрессор ЗИФ дизельный 5,5 м3/мин, 10 бар. ЗИФ-ПВ-5,5/1,0 F-R | D33: 5.5 | G33: 0 | H33: 10 | J33: 50 | P33: -25...+40 | Q33: 2014*1244*1478 | R33: =LEFTB(Q33, FIND("*", Q33) - 1) -> 2014 | S33: =MID(Q33, FIND("*", Q33) + 1, FIND("*", Q33, FIND("*", Q33) + 1) - FIND("*", Q33) - 1) -> 1244 | T33: =RIGHTB(Q33, LEN(Q33) - FIND("*", Q33, FIND("*", Q33) + 1)) -> 1478 | U33: 860 | V33: Уличное | W33: 3хG3/4" | Z33: 98 | AA33: 1500 | AB33: Воздушное | AC33: ЗИФ-00044609;ЗИФ-00044610;ЗИФ-00044611;ЗИФ-00018818;ЗИФ-00044576;ЗИФ-00044582 | AD33: Похож на Atlas Copco U 250 PACE | AE33: Воздух | AF33: ≤3,5 | AG33: 110 | AH33: 3,5 | AJ33: Плюс 40 ℃ к входной | AK33: 13 | AN33: ≤85 | AO33: Аналоговое | AP33: Перегрев двигателя; перегрев масла компрессора; падение давления масла двигателя; превышение давления нагнетания в маслоотделителе; обрыв ремней генератора. | AQ33: Пуск/Стоп; подогрев; индикация: наработки в м/ч, количество топлива, температура масла двигателя, давления нагнетания в маслоотделителе; аварийная сигнализация: перегрев двигателя, отсутствие давление масла в двигателе, разряд АКБ. | AR33: На раме | AS33: Прямой, через сцепление | AT33: Дизельный (FAW) | AU33: Винтовой | AV33: Маслозаполнный | AX33: Изменение оборотов двигателя+ дросселирование на всасывании | AY33: Электростартер | BA33: FAW-4DW92 | BB33: 2900 | BD33: 2.16 | BE33: 10.6 | BF33: 80 | BU33: В наличии | BV33: =VLOOKUP(A33,'[1]01. Дизельные винтовые'!$G:$CD,76,0) -> 1003110.2
A34: ЗИФ-00043732 | B34: ЗИФ-ПВ-6/1,0 F-R | C34: Компрессор ЗИФ дизельный 6 м3/мин, 10 бар. ЗИФ-ПВ-6/1,0 F-R | D34: 6 | G34: 0 | H34: 10 | J34: 50 | P34: -25...+40 | Q34: 2014*1244*1478 | R34: =LEFTB(Q34, FIND("*", Q34) - 1) -> 2014 | S34: =MID(Q34, FIND("*", Q34) + 1, FIND("*", Q34, FIND("*", Q34) + 1) - FIND("*", Q34) - 1) -> 1244 | T34: =RIGHTB(Q34, LEN(Q34) - FIND("*", Q34, FIND("*", Q34) + 1)) -> 1478 | U34: 860 | V34: Уличное | W34: 3хG3/4" | Z34: 98 | AA34: 1500 | AB34: Воздушное | AC34: ЗИФ-00044609;ЗИФ-00044610;ЗИФ-00044611;ЗИФ-00018818;ЗИФ-00044576;ЗИФ-00044583 | AD34: Похож на Atlas Copco U 250 PACE | AE34: Воздух | AF34: ≤3,5 | AG34: 110 | AH34: 3,5 | AJ34: Плюс 40 ℃ к входной | AK34: 13 | AN34: ≤85 | AO34: Аналоговое | AP34: Перегрев двигателя; перегрев масла компрессора; падение давления масла двигателя; превышение давления нагнетания в маслоотделителе; обрыв ремней генератора. | AQ34: Пуск/Стоп; подогрев; индикация: наработки в м/ч, количество топлива, температура масла двигателя, давления нагнетания в маслоотделителе; аварийная сигнализация: перегрев двигателя, отсутствие давление масла в двигателе, разряд АКБ. | AR34: На раме | AS34: Прямой, через сцепление | AT34: Дизельный (FAW) | AU34: Винтовой | AV34: Маслозаполнный | AX34: Изменение оборотов двигателя+ дросселирование на всасывании | AY34: Электростартер | BA34: FAW-4DW92 | BB34: 3000 | BD34: 2.16 | BE34: 10.6 | BF34: 80 | BU34: В наличии | BV34: =VLOOKUP(A34,'[1]01. Дизельные винтовые'!$G:$CD,76,0) -> 1212539.2
A35: ЗИФ-00043733 | B35: ЗИФ-ПВ-8/1,0 F-R | C35: Компрессор ЗИФ дизельный 8 м3/мин, 10 бар. ЗИФ-ПВ-8/1,0 F-R | D35: 8 | G35: 0 | H35: 10 | J35: 80 | P35: -25...+40 | Q35: 2270*1244*1500 | R35: =LEFTB(Q35, FIND("*", Q35) - 1) -> 2270 | S35: =MID(Q35, FIND("*", Q35) + 1, FIND("*", Q35, FIND("*", Q35) + 1) - FIND("*", Q35) - 1) -> 1244 | T35: =RIGHTB(Q35, LEN(Q35) - FIND("*", Q35, FIND("*", Q35) + 1)) -> 1500 | U35: 1500 | V35: Уличное | W35: 3хG3/4"+1хG1-1/2" | Z35: 98 | AA35: 1500 | AB35: Воздушное | AC35: ЗИФ-00044609;ЗИФ-00044610;ЗИФ-00044611;ЗИФ-00018818;ЗИФ-00044576;ЗИФ-00044584 | AD35: Похож на Atlas Copco XATS 156 Dd | AE35: Воздух | AF35: ≤3,5 | AG35: 110 | AH35: 3,5 | AJ35: Плюс 40 ℃ к входной | AK35: 23 | AN35: ≤85 | AO35: Аналоговое | AP35: Перегрев двигателя; перегрев масла компрессора; падение давления масла двигателя; превышение давления нагнетания в маслоотделителе; обрыв ремней генератора. | AQ35: Пуск/Стоп; подогрев; индикация: наработки в м/ч, количество топлива, температура масла двигателя, давления нагнетания в маслоотделителе; аварийная сигнализация: перегрев двигателя, отсутствие давление масла в двигателе, разряд АКБ. | AR35: На раме | AS35: Прямой, через сцепление | AT35: Дизельный (FAW) | AU35: Винтовой | AV35: Маслозаполнный | AX35: Изменение оборотов двигателя+ дросселирование на всасывании | AY35: Электростартер | BA35: 4DX22-110G2 | BB35: 3000 | BD35: 3.8 | BE35: 17.6 | BF35: 80 | BU35: В наличии | BV35: =VLOOKUP(A35,'[1]01. Дизельные винтовые'!$G:$CD,76,0) -> 1495622
A36: ЗИФ-00043563 | B36: ЗИФ-ПВ-10/1,0 F-R | C36: Компрессор ЗИФ дизельный 10 м3/мин, 10 бар. ЗИФ-ПВ-10/1,0 F-R | D36: 10 | G36: 0 | H36: 10 | J36: 80 | P36: -25...+40 | Q36: 2270*1244*1500 | R36: =LEFTB(Q36, FIND("*", Q36) - 1) -> 2270 | S36: =MID(Q36, FIND("*", Q36) + 1, FIND("*", Q36, FIND("*", Q36) + 1) - FIND("*", Q36) - 1) -> 1244 | T36: =RIGHTB(Q36, LEN(Q36) - FIND("*", Q36, FIND("*", Q36) + 1)) -> 1500 | U36: 1500 | V36: Уличное | W36: 3хG3/4"+1хG1-1/2" | Z36: 98 | AA36: 1500 | AB36: Воздушное | AC36: ЗИФ-00044609;ЗИФ-00044610;ЗИФ-00044611;ЗИФ-00018818;ЗИФ-00044576;ЗИФ-00044585 | AD36: Похож на Atlas Copco XATS 156 Dd | AE36: Воздух | AF36: ≤3,5 | AG36: 110 | AH36: 3,5 | AJ36: Плюс 40 ℃ к входной | AK36: 23 | AN36: ≤85 | AO36: Аналоговое | AP36: Перегрев двигателя; перегрев масла компрессора; падение давления масла двигателя; превышение давления нагнетания в маслоотделителе; обрыв ремней генератора. | AQ36: Пуск/Стоп; подогрев; индикация: наработки в м/ч, количество топлива, температура масла двигателя, давления нагнетания в маслоотделителе; аварийная сигнализация: перегрев двигателя, отсутствие давление масла в двигателе, разряд АКБ. | AR36: На раме | AS36: Прямой, через сцепление | AT36: Дизельный (FAW) | AU36: Винтовой | AV36: Маслозаполнный | AX36: Изменение оборотов двигателя+ дросселирование на всасывании | AY36: Электростартер | BA36: 4DX22-110G2 | BB36: 3000 | BD36: 3.8 | BE36: 17.6 | BF36: 80 | BU36: В наличии | BV36: =VLOOKUP(A36,'[1]01. Дизельные винтовые'!$G:$CD,76,0) -> 1561874.8
A37: ЗИФ-00043567 | B37: ЗИФ-ПВ-3/1,2 F-R | C37: Компрессор ЗИФ дизельный 3 м3/мин, 12 бар. ЗИФ-ПВ-3/1,2 F-R | D37: 3 | G37: 0 | H37: 12 | J37: 50 | P37: -25...+40 | Q37: 2014*1244*1478 | R37: =LEFTB(Q37, FIND("*", Q37) - 1) -> 2014 | S37: =MID(Q37, FIND("*", Q37) + 1, FIND("*", Q37, FIND("*", Q37) + 1) - FIND("*", Q37) - 1) -> 1244 | T37: =RIGHTB(Q37, LEN(Q37) - FIND("*", Q37, FIND("*", Q37) + 1)) -> 1478 | U37: 860 | V37: Уличное | W37: 3хG3/4" | Z37: 98 | AA37: 1500 | AB37: Воздушное | AC37: ЗИФ-00044609;ЗИФ-00044610;ЗИФ-00044611;ЗИФ-00018818;ЗИФ-00044576;ЗИФ-00044586 | AD37: Похож на Atlas Copco XAHS 38 | AE37: Воздух | AF37: ≤3,5 | AG37: 110 | AH37: 3,5 | AJ37: Плюс 40 ℃ к входной | AK37: 13 | AN37: ≤80 | AO37: Аналоговое | AP37: Перегрев двигателя; перегрев масла компрессора; падение давления масла двигателя; превышение давления нагнетания в маслоотделителе; обрыв ремней генератора. | AQ37: Пуск/Стоп; подогрев; индикация: наработки в м/ч, количество топлива, температура масла двигателя, давления нагнетания в маслоотделителе; аварийная сигнализация: перегрев двигателя, отсутствие давление масла в двигателе, разряд АКБ. | AR37: На раме | AS37: Прямой, через сцепление | AT37: Дизельный (FAW) | AU37: Винтовой | AV37: Маслозаполнный | AX37: Изменение оборотов двигателя+ дросселирование на всасывании | AY37: Электростартер | BA37: FAW-4DW92 | BB37: 2900 | BD37: 2.16 | BE37: 10.6 | BF37: 50 | BU37: 10 р. д. | BV37: =VLOOKUP(A37,'[1]01. Дизельные винтовые'!$G:$CD,76,0) -> 1124677.7
... A44: ЗИФ-00043580 | B44: ЗИФ-ПВ-6/1,3 F-R | C44: Компрессор ЗИФ дизельный 6 м3/мин, 13 бар. ЗИФ-ПВ-6/1,3 F-R | D44: 6 | G44: 0 | H44: 13 | J44: 80 | P44: -25...+40 | Q44: 2270*1244*1500 | R44: =LEFTB(Q44, FIND("*", Q44) - 1) -> 2270 | S44: =MID(Q44, FIND("*", Q44) + 1, FIND("*", Q44, FIND("*", Q44) + 1) - FIND("*", Q44) - 1) -> 1244 | T44: =RIGHTB(Q44, LEN(Q44) - FIND("*", Q44, FIND("*", Q44) + 1)) -> 1500 | U44: 1500 | V44: Уличное | W44: 3хG3/4"+1хG1-1/2" | Z44: 98 | AA44: 1500 | AB44: Воздушное | AC44: ЗИФ-00044609;ЗИФ-00044610;ЗИФ-00044611;ЗИФ-00018818;ЗИФ-00044576;ЗИФ-00044593 | AD44: Похож на Atlas Copco XAHS 107 Kd | AE44: Воздух | AF44: ≤3,5 | AG44: 110 | AH44: 3,5 | AJ44: Плюс 40 ℃ к входной | AK44: 23 | AN44: ≤85 | AO44: Аналоговое | AP44: Перегрев двигателя; перегрев масла компрессора; падение давления масла двигателя; превышение давления нагнетания в маслоотделителе; обрыв ремней генератора. | AQ44: Пуск/Стоп; подогрев; индикация: наработки в м/ч, количество топлива, температура масла двигателя, давления нагнетания в маслоотделителе; аварийная сигнализация: перегрев двигателя, отсутствие давление масла в двигателе, разряд АКБ. | AR44: На раме | AS44: Прямой, через сцепление | AT44: Дизельный (FAW) | AU44: Винтовой | AV44: Маслозаполнный | AX44: Изменение оборотов двигателя+ дросселирование на всасывании | AY44: Электростартер | BA44: 4DX22-110G2 | BB44: 3000 | BD44: 3.8 | BE44: 17.6 | BF44: 80 | BU44: 10 р. д. | BV44: =VLOOKUP(A44,'[1]01. Дизельные винтовые'!$G:$CD,76,0) -> 1543104.7
A45: ЗИФ-00043581 | B45: ЗИФ-ПВ-2/1,6 F-R | C45: Компрессор ЗИФ дизельный 2 м3/мин, 16 бар. ЗИФ-ПВ-2/1,6 F-R | D45: 2 | G45: 0 | H45: 16 | J45: 33 | P45: -25...+40 | Q45: 1642*969*1286 | R45: =LEFTB(Q45, FIND("*", Q45) - 1) -> 1642 | S45: =MID(Q45, FIND("*", Q45) + 1, FIND("*", Q45, FIND("*", Q45) + 1) - FIND("*", Q45) - 1) -> 969 | T45: =RIGHTB(Q45, LEN(Q45) - FIND("*", Q45, FIND("*", Q45) + 1)) -> 1286 | U45: 588 | V45: Уличное | W45: 2хG3/4" | Z45: 98 | AA45: 1500 | AB45: Воздушное | AC45: ЗИФ-00044609;ЗИФ-00044610;ЗИФ-00044611;ЗИФ-00018818;ЗИФ-00044576;ЗИФ-00044594 | AD45: 0 | AE45: Воздух | AF45: ≤3,5 | AG45: 110 | AH45: 3,5 | AJ45: Плюс 40 ℃ к входной | AK45: 13 | AN45: ≤80 | AO45: Аналоговое | AP45: Перегрев двигателя; перегрев масла компрессора; падение давления масла двигателя; превышение давления нагнетания в маслоотделителе; обрыв ремней генератора. | AQ45: Пуск/Стоп; подогрев; индикация: наработки в м/ч, количество топлива, температура масла двигателя, давления нагнетания в маслоотделителе; аварийная сигнализация: перегрев двигателя, отсутствие давление масла в двигателе, разряд АКБ. | AR45: На раме | AS45: Прямой, через сцепление | AT45: Дизельный (FAW) | AU45: Винтовой | AV45: Маслозаполнный | AX45: Изменение оборотов двигателя+ дросселирование на всасывании | AY45: Электростартер | BA45: FAW-4DW91 | BB45: 2900 | BD45: 2.16 | BE45: 7.3 | BF45: 50 | BU45: 60 р.д. | BV45: =VLOOKUP(A45,'[1]01. Дизельные винтовые'!$G:$CD,76,0) -> 1257822.3
A46: ЗИФ-00043582 | B46: ЗИФ-ПВ-4/1,6 F-R | C46: Компрессор ЗИФ дизельный 4 м3/мин, 16 бар. ЗИФ-ПВ-4/1,6 F-R | D46: 4 | G46: 0 | H46: 16 | J46: 80 | P46: -25...+40 | Q46: 2270*1244*1500 | R46: =LEFTB(Q46, FIND("*", Q46) - 1) -> 2270 | S46: =MID(Q46, FIND("*", Q46) + 1, FIND("*", Q46, FIND("*", Q46) + 1) - FIND("*", Q46) - 1) -> 1244 | T46: =RIGHTB(Q46, LEN(Q46) - FIND("*", Q46, FIND("*", Q46) + 1)) -> 1500 | U46: 1500 | V46: Уличное | W46: 3хG3/4" | Z46: 98 | AA46: 1500 | AB46: Воздушное | AC46: ЗИФ-00044609;ЗИФ-00044610;ЗИФ-00044611;ЗИФ-00018818;ЗИФ-00044576;ЗИФ-00044595 | AD46: 0 | AE46: Воздух | AF46: ≤3,5 | AG46: 110 | AH46: 3,5 | AJ46: Плюс 40 ℃ к входной | AK46: 23 | AN46: ≤85 | AO46: Аналоговое | AP46: Перегрев двигателя; перегрев масла компрессора; падение давления масла двигателя; превышение давления нагнетания в маслоотделителе; обрыв ремней генератора. | AQ46: Пуск/Стоп; подогрев; индикация: наработки в м/ч, количество топлива, температура масла двигателя, давления нагнетания в маслоотделителе; аварийная сигнализация: перегрев двигателя, отсутствие давление масла в двигателе, разряд АКБ. | AR46: На раме | AS46: Прямой, через сцепление | AT46: Дизельный (FAW) | AU46: Винтовой | AV46: Маслозаполнный | AX46: Изменение оборотов двигателя+ дросселирование на всасывании | AY46: Электростартер | BA46: 4DX22-110G2 | BB46: 2900 | BD46: 3.8 | BE46: 15 | BF46: 80 | BU46: В наличии | BV46: =VLOOKUP(A46,'[1]01. Дизельные винтовые'!$G:$CD,76,0) -> 1518984.4
A47: 01.01.02. Дизельные c двигателем FAW на шасси | C47: 01.01.02. Дизельные c двигателем FAW на шасси
A48: ЗИФ-00043723 | B48: ЗИФ-ПВ-3,5/0,7 F-R на шасси | C48: Компрессор ЗИФ дизельный 3,5 м3/мин, 7 бар + шасси (Не предназначен для перемещения по дорогам общего пользования, без ПТС и ПСМ). ЗИФ-ПВ-3,5/0,7 F-R | D48: 3.5 | G48: 0 | H48: 7 | J48: 33 | P48: -25...+40 | Q48: 1642*969*1286 | V48: Уличное | W48: 2хG3/4" | Z48: 98 | AA48: 1500 | AB48: Воздушное | AC48: ЗИФ-00044576;ЗИФ-00044575 | AD48: Похож на Atlas Copco XAS 67 Dd, Atlas Copco XAS 68 Kd | AE48: Воздух | AF48: ≤3,5 | AG48: 110 | AH48: 3,5 | AJ48: Плюс 40 ℃ к входной | AK48: 13 | AN48: ≤80 | AO48: Аналоговое | AP48: Перегрев двигателя; перегрев масла компрессора; падение давления масла двигателя; превышение давления нагнетания в маслоотделителе; обрыв ремней генератора. | AQ48: Пуск/Стоп; подогрев; индикация: наработки в м/ч, количество топлива, температура масла двигателя, давления нагнетания в маслоотделителе; аварийная сигнализация: перегрев двигателя, отсутствие давление масла в двигателе, разряд АКБ. | AR48: На шасси | AS48: Прямой, через сцепление | AT48: Дизельный (FAW) | AU48: Винтовой | AV48: Маслозаполнный | AX48: Изменение оборотов двигателя+ дросселирование на всасывании | AY48: Электростартер | BA48: FAW-4DW91 | BB48: 2900 | BD48: 2.16 | BE48: 7.3 | BF48: 50 | BU48: 2 р.д | BV48: =VLOOKUP(A48,'[1]01. Дизельные винтовые'!$G:$CD,76,0) -> 942162.95
A49: ЗИФ-00046747 | B49: ЗИФ-ПВ-3,5/0,8 F-R на шасси | C49: Компрессор ЗИФ дизельный 3,5 м3/мин, 8 бар + шасси (Не предназначен для перемещения по дорогам общего пользования, без ПТС и ПСМ). ЗИФ-ПВ-3,5/0,8 F-R | D49: 3.5 | G49: 0 | H49: 8 | J49: 33 | P49: -25...+40 | Q49: 1642*969*1286 | V49: Уличное | W49: 3хG3/4" | Z49: 98 | AA49: 1500 | AB49: Воздушное | AC49: ЗИФ-00044576;ЗИФ-00044576 | AD49: Похож на Atlas Copco XAS 67 Dd, Atlas Copco XAS 68 Kd | AE49: Воздух | AF49: ≤3,5 | AG49: 110 | AH49: 3,5 | AJ49: Плюс 40 ℃ к входной | AK49: 13 | AN49: ≤80 | AO49: Аналоговое | AP49: Перегрев двигателя; перегрев масла компрессора; падение давления масла двигателя; превышение давления нагнетания в маслоотделителе; обрыв ремней генератора. | AQ49: Пуск/Стоп; подогрев; индикация: наработки в м/ч, количество топлива, температура масла двигателя, давления нагнетания в маслоотделителе; аварийная сигнализация: перегрев двигателя, отсутствие давление масла в двигателе, разряд АКБ. | AR49: На шасси | AS49: Прямой, через сцепление | AT49: Дизельный (FAW) | AU49: Винтовой | AV49: Маслозаполнный | AX49: Изменение оборотов двигателя+ дросселирование на всасывании | AY49: Электростартер | BA49: FAW-4DW91 | BB49: 2900 | BD49: 2.16 | BE49: 7.3 | BF49: 50 | BU49: 2 р.д | BV49: =VLOOKUP(A49,'[1]01. Дизельные винтовые'!$G:$CD,76,0) -> 942162.95
A50: ЗИФ-00043724 | B50: ЗИФ-ПВ-5/0,7 F-R на шасси | C50: Компрессор ЗИФ дизельный 5 м3/мин, 7 бар + шасси (Не предназначен для перемещения по дорогам общего пользования, без ПТС и ПСМ), ЗИФ-ПВ-5/0,7 F-R | D50: 5 | G50: 0 | H50: 7 | J50: 33 | P50: -25...+40 | Q50: 2014*1244*1478 | V50: Уличное | W50: 3хG3/4" | Z50: 98 | AA50: 1500 | AB50: Воздушное | AC50: ЗИФ-00044576;ЗИФ-00044577 | AD50: Похож на Atlas Copco XAS 87 Kd, Atlas Copco XAS 88 Kd, Atlas Copco XAS 97 Dd, Atlas Copco XAS 98 | AE50: Воздух | AF50: ≤3,5 | AG50: 110 | AH50: 3,5 | AJ50: Плюс 40 ℃ к входной | AK50: 13 | AN50: ≤85 | AO50: Аналоговое | AP50: Перегрев двигателя; перегрев масла компрессора; падение давления масла двигателя; превышение давления нагнетания в маслоотделителе; обрыв ремней генератора. | AQ50: Пуск/Стоп; подогрев; индикация: наработки в м/ч, количество топлива, температура масла двигателя, давления нагнетания в маслоотделителе; аварийная сигнализация: перегрев двигателя, отсутствие давление масла в двигателе, разряд АКБ. | AR50: На шасси | AS50: Прямой, через сцепление | AT50: Дизельный (FAW) | AU50: Винтовой | AV50: Маслозаполнный | AX50: Изменение оборотов двигателя+ дросселирование на всасывании | AY50: Электростартер | BA50: FAW-4DW91 | BB50: 2900 | BD50: 2.16 | BE50: 7.3 | BF50: 80 | BU50: 2 р.д | BV50: =VLOOKUP(A50,'[1]01. Дизельные винтовые'!$G:$CD,76,0) -> 1044336.1
A51: ЗИФ-00046748 | B51: ЗИФ-ПВ-5/0,8 F-R на шасси | C51: Компрессор ЗИФ дизельный 5 м3/мин, 8 бар + шасси (Не предназначен для перемещения по дорогам общего пользования, без ПТС и ПСМ). ЗИФ-ПВ-5/0,8 F-R | D51: 5 | G51: 0 | H51: 8 | J51: 33 | P51: -25...+40 | Q51: 2014*1244*1478 | V51: Уличное | W51: 3хG3/4" | Z51: 98 | AA51: 1500 | AB51: Воздушное | AC51: ЗИФ-00044576;ЗИФ-00044578 | AD51: Похож на Atlas Copco XAS 87 Kd, Atlas Copco XAS 88 Kd, Atlas Copco XAS 97 Dd, Atlas Copco XAS 98 | AE51: Воздух | AF51: ≤3,5 | AG51: 110 | AH51: 3,5 | AJ51: Плюс 40 ℃ к входной | AK51: 13 | AN51: ≤85 | AO51: Аналоговое | AP51: Перегрев двигателя; перегрев масла компрессора; падение давления масла двигателя; превышение давления нагнетания в маслоотделителе; обрыв ремней генератора. | AQ51: Пуск/Стоп; подогрев; индикация: наработки в м/ч, количество топлива, температура масла двигателя, давления нагнетания в маслоотделителе; аварийная сигнализация: перегрев двигателя, отсутствие давление масла в двигателе, разряд АКБ. | AR51: На шасси | AS51: Прямой, через сцепление | AT51: Дизельный (FAW) | AU51: Винтовой | AV51: Маслозаполнный | AX51: Изменение оборотов двигателя+ дросселирование на всасывании | AY51: Электростартер | BA51: FAW-4DW91 | BB51: 2900 | BD51: 2.16 | BE51: 7.3 | BF51: 80 | BU51: 2 р.д | BV51: =VLOOKUP(A51,'[1]01. Дизельные винтовые'!$G:$CD,76,0) -> 1044336.1
...

Sheet 2. Электрические
B2: 02. ЭЛЕКТРИЧЕСКИЕ винтовые компрессоры
A4: Оглавление
A5: 02.01. Электрические стационарные (7,5 - 355 кВт) от +1 ˚С
A6: 02.01.01. Электрические 7,5 - 75 кВт
A7: 02.01.02. Электрические 90 - 355 кВт
A8: 02.02. Электрические стационарные (7,5 - 355 кВт) от +1 ˚С с частотным регулированием
A9: 02.02.01. Электрические 7,5 - 75 кВт с частотным регулированием
A10: 02.02.02. Электрические 90 - 355 кВт с частотным регулированием
A11: 02.03. Электрические передвижные. Полная защита от осадков (18,5 - 90 кВт) до -40 ˚С
A12: 02.03.01. Передвижные до -40 ˚С. Полная защита от осадков
A13: 02.03.02. Стационарные до -40 ˚С. Для работы под крышей
A14: 02.03.03. Опции к электрическим компрессорным станциям
A15: 02.04. Электрические стационарные на ресивере (7,5 - 22 кВт)
... A24: 02.07.01. Электрические 90-132 кВт в специсполнении
A26: 1 | B26: =A26+1 -> 2 | C26: =B26+1 -> 3 | D26: =C26+1 -> 4 | E26: =D26+1 -> 5 | F26: =E26+1 -> 6 | G26: =F26+1 -> 7 | H26: =G26+1 -> 8 | I26: =H26+1 -> 9 | ... BV26: =BU26+1 -> 74
A27: Артикул | B27: Название модели | C27: Наименование для сайта | D27: Производи-тельность, м3/мин | E27: Производи-тельность, м3/ч | F27: Производи-тельность, фунт в мин (PPM) | G27: Давление на входе (бар избыт.) | H27: Давление на выходе (бар избыт.) | I27: Рабочее давление, PSIG | J27: Мощность, кВт | K27: Точка росы, °C | L27: Чистота азота, % | M27: Расход воздуха (на выработку азота) , м3/ч | N27: Расход воздуха (на выработку азота) , м3/мин | O27: Коэффициент «воздух-азот» | P27: Диапазон температуры эксплуатации, °C | Q27: Габаритные размеры, ДхШхВ, мм | R27: Длина, мм | S27: Ширина, мм | T27: Высота, мм | U27: Масса (нетто), кг | V27: Место расположения | W27: Диаметры точек подключения | X27: Номинальный диаметр точки подключения на входе | Y27: Номинальный диаметр точки подключения на выходе | Z27: Допустимая влажность окружающего воздуха, % | AA27: Максимальная высота над уронем моря, м | AB27: Тип охлаждения | AC27: Доступные опции | AD27: Аналоги по параметрам | AE27: Состав газа | AF27: Содержание масла в сжатом воздухе, не более, мг/м3 | AG27: Максимальная рабочая тепература масла, ℃ | AH27: Минимальное рабочее давление, бар | AI27: Макс. t сжатого воздуха на входе, °C | AJ27: Макc. t сжатого воздуха на выходе, °C | AK27: Количество заправки компрессорного масла, л | AL27: Количество заправки моторного масла, л | AM27: Объём воздуха для охлаждения станции, м3/мин | AN27: Уровень шума, дБ | AO27: Тип системы управления | AP27: Датчики и устройства защиты | AQ27: Функции системы управления | AR27: Прицеп/шасси/рама | AS27: Тип привода | AT27: Тип двигателя | AU27: Тип компрессорного блока | AV27: Тип смазки. Безмасляный/маслозаполненный | AW27: Тип электродвигателя | AX27: Способ регулирования производительности | AY27: Метод запуска | AZ27: Наличие частотного регулирования | BA27: Марка двигателя | BB27: Частота вращения двигателя, об/мин | BC27: Частота вращения двигателя максимальная, об/мин | BD27: Объём двигателя, л . | BE27: Расход топлива, кг/час | BF27: Ёмкость топливного бака, л | BG27: Параметры электросети | BH27: Класс изоляции электродвигателя | BI27: Класс энергоэффективности электродвигателя | BJ27: Степень защиты двигателя (IP) | BK27: Минимальное сечение медного кабеля для подключения станции, мм2 | BL27: Класс взрывозащиты (исполнение) | BM27: Мощность вентиляторов охлаждения, кВт | BN27: Тип регенерации | BO27: Степень очистки | BP27: Количество ступеней | BQ27: Количество цилиндров | BR27: Объем ресивера, литр | BS27: Минимальный объем ресивера, м3 | BT27: Свойства прицепа | BU27: Срок производства | BV27: Цена, руб. с НДС
A28: 02.01. Электрические стационарные (7,5 - 355 кВт) от +1 ˚С
A29: 02.01.01. Электрические 7,5 - 75 кВт
A30: ЗИФ-00043564 | B30: ЗИФ-СВЭ-1,5/0,7 ШМ-R | C30: Компрессор ЗИФ 7,5 кВт, 1,5 м3/мин, 7 бар винтовой. ЗИФ-СВЭ-1,5/0,7 ШМ-R | D30: 1.11 | G30: 0 | H30: 7 | J30: 7.5 | P30: +1...+45 °С | Q30: 820*540*810 | R30: =LEFTB(Q30, FIND("*", Q30) - 1) -> 820 | S30: =MID(Q30, FIND("*", Q30) + 1, FIND("*", Q30, FIND("*", Q30) + 1) - FIND("*", Q30) - 1) -> 540 | T30: =RIGHTB(Q30, LEN(Q30) - FIND("*", Q30, FIND("*", Q30) + 1)) -> 810 | U30: =DC30 -> 0 | V30: В помещении | W30: G3/4 | Z30: 60 | AA30: 1000 | AB30: Воздушное | AD30: Похож на Atlas Copco GA 7,5 7,5 | AE30: Воздух | AF30: ≤3 | AG30: 105 | AH30: 6.5 | AJ30: +15 ℃ к t°C окр. среды | AK30: 4 | AM30: 50 | AN30: ≤65 | AO30: Контроллер | AP30: Датчик температуры, датчик давления, защита от перегрузки по току, защита от перекоса фаз, защита от некорректного напряжения | AQ30: Измерения энергопотребления, включение/выключение по расписанию, управление инвертором (при его наличии); защита двигателя от обрыва фазы, перегрузки по току, дисбаланса тока, высокого и низкого напряжения. | AR30: На раме, в кожухе | AS30: прямой | AT30: Электрический | AU30: Винтовой | AV30: Маслозаполненный | AW30: Асинхронный | AX30: Дросселирование на всасывании + пуск-остановка | AY30: Звезда-треугольник (Y-△) | AZ30: Нет | BB30: 3000 | BG30: 380 В, 50 Гц | BH30: F | BI30: IE3 | BJ30: IP23 | BK30: 3х4 | BM30: 0.18 | BU30: В наличии | BV30: =VLOOKUP(A30,'[1]02. Электрические винтовые'!$G:$CD,76,0) -> 121864.73
A31: ЗИФ-00046758 | B31: ЗИФ-СВЭ-1,4/0,8 ШМ-R | C31: Компрессор ЗИФ 7,5 кВт, 1,4 м3/мин, 8 бар винтовой. ЗИФ-СВЭ-1,4/0,8 ШМ-R | D31: 1.06 | G31: 0 | H31: 8 | J31: 7.5 | P31: +1...+45 °С | Q31: 820*540*810 | R31: =LEFTB(Q31, FIND("*", Q31) - 1) -> 820 | S31: =MID(Q31, FIND("*", Q31) + 1, FIND("*", Q31, FIND("*", Q31) + 1) - FIND("*", Q31) - 1) -> 540 | T31: =RIGHTB(Q31, LEN(Q31) - FIND("*", Q31, FIND("*", Q31) + 1)) -> 810 | U31: =DC31 -> 0 | V31: В помещении | W31: G3/4 | Z31: 60 | AA31: 1000 | AB31: Воздушное | AD31: Похож на Atlas Copco GA 7,5 7,5 | AE31: Воздух | AF31: ≤3 | AG31: 105 | AH31: 6.5 | AJ31: +15 ℃ к t°C окр. среды | AK31: 4 | AM31: 50 | AN31: ≤65 | AO31: Контроллер | AP31: Датчик температуры, датчик давления, защита от перегрузки по току, защита от перекоса фаз, защита от некорректного напряжения | AQ31: Измерения энергопотребления, включение/выключение по расписанию, управление инвертором (при его наличии); защита двигателя от обрыва фазы, перегрузки по току, дисбаланса тока, высокого и низкого напряжения. | AR31: На раме, в кожухе | AS31: прямой | AT31: Электрический | AU31: Винтовой | AV31: Маслозаполненный | AW31: Асинхронный | AX31: Дросселирование на всасывании + пуск-остановка | AY31: Звезда-треугольник (Y-△) | AZ31: Нет | BB31: 3000 | BG31: 380 В, 50 Гц | BH31: F | BI31: IE3 | BJ31: IP23 | BK31: 3х4 | BM31: 0.18 | BU31: В наличии | BV31: =VLOOKUP(A31,'[1]02. Электрические винтовые'!$G:$CD,76,0) -> 121864.73
A32: ЗИФ-00043565 | B32: ЗИФ-СВЭ-1/1,0 ШМ-R | C32: Компрессор ЗИФ 7,5 кВт, 1 м3/мин, 7 бар винтовой. ЗИФ-СВЭ-1/1,0 ШМ-R | D32: 0.96 | G32: 0 | H32: 10 | J32: 7.5 | P32: +1...+45 °С | Q32: 820*540*810 | R32: =LEFTB(Q32, FIND("*", Q32) - 1) -> 820 | S32: =MID(Q32, FIND("*", Q32) + 1, FIND("*", Q32, FIND("*", Q32) + 1) - FIND("*", Q32) - 1) -> 540 | T32: =RIGHTB(Q32, LEN(Q32) - FIND("*", Q32, FIND("*", Q32) + 1)) -> 810 | U32: =DC32 -> 0 | V32: В помещении | W32: G3/4 | Z32: 60 | AA32: 1000 | AB32: Воздушное | AD32: Похож на Atlas Copco GA 7,5 10 | AE32: Воздух | AF32: ≤3 | AG32: 105 | AH32: 6.5 | AJ32: +15 ℃ к t°C окр. среды | AK32: 4 | AM32: 50 | AN32: ≤65 | AO32: Контроллер | AP32: Датчик температуры, датчик давления, защита от перегрузки по току, защита от перекоса фаз, защита от некорректного напряжения | AQ32: Измерения энергопотребления, включение/выключение по расписанию, управление инвертором (при его наличии); защита двигателя от обрыва фазы, перегрузки по току, дисбаланса тока, высокого и низкого напряжения. | AR32: На раме, в кожухе | AS32: прямой | AT32: Электрический | AU32: Винтовой | AV32: Маслозаполненный | AW32: Асинхронный | AX32: Дросселирование на всасывании + пуск-остановка | AY32: Звезда-треугольник (Y-△) | AZ32: Нет | BB32: 3000 | BG32: 380 В, 50 Гц | BH32: F | BI32: IE3 | BJ32: IP23 | BK32: 3х4 | BM32: 0.18 | BU32: В наличии | BV32: =VLOOKUP(A32,'[1]02. Электрические винтовые'!$G:$CD,76,0) -> 121864.73
A33: ЗИФ-00043566 | B33: ЗИФ-СВЭ-2/0,7 ШМ-R | C33: Компрессор ЗИФ 11 кВт, 2 м3/мин, 7 бар винтовой. ЗИФ-СВЭ-2/0,7 ШМ-R | D33: 1.78 | G33: 0 | H33: 7 | J33: 11 | P33: +1...+45 °С | Q33: 1020*640*1020 | R33: =LEFTB(Q33, FIND("*", Q33) - 1) -> 1020 | S33: =MID(Q33, FIND("*", Q33) + 1, FIND("*", Q33, FIND("*", Q33) + 1) - FIND("*", Q33) - 1) -> 640 | T33: =RIGHTB(Q33, LEN(Q33) - FIND("*", Q33, FIND("*", Q33) + 1)) -> 1020 | U33: =DC33 -> 0 | V33: В помещении | W33: G3/4 | Z33: 60 | AA33: 1000 | AB33: Воздушное | AD33: Похож на Atlas Copco GA 7,5 7,5 | AE33: Воздух | AF33: ≤3 | AG33: 105 | AH33: 6.5 | AJ33: +15 ℃ к t°C окр. среды | AK33: 10 | AM33: 117 | AN33: ≤65 | AO33: Контроллер | AP33: Датчик температуры, датчик давления, защита от перегрузки по току, защита от перекоса фаз, защита от некорректного напряжения | AQ33: Измерения энергопотребления, включение/выключение по расписанию, управление инвертором (при его наличии); защита двигателя от обрыва фазы, перегрузки по току, дисбаланса тока, высокого и низкого напряжения. | AR33: На раме, в кожухе | AS33: прямой | AT33: Электрический | AU33: Винтовой | AV33: Маслозаполненный | AW33: Асинхронный | AX33: Дросселирование на всасывании + пуск-остановка | AY33: Звезда-треугольник (Y-△) | AZ33: Нет | BB33: 2200 | BG33: 380 В, 50 Гц | BH33: F | BI33: IE3 | BJ33: IP23 | BK33: 3х10 | BM33: 0.45 | BU33: В наличии | BV33: =VLOOKUP(A33,'[1]02. Электрические винтовые'!$G:$CD,76,0) -> 189321.31
A34: ЗИФ-00046759 | B34: ЗИФ-СВЭ-1,9/0,8 ШМ-R | C34: Компрессор ЗИФ 11 кВт, 1,9 м3/мин, 8 бар винтовой. ЗИФ-СВЭ-1,9/0,8 ШМ-R | D34: 1.7 | G34: 0 | H34: 8 | J34: 11 | P34: +1...+45 °С | Q34: 1020*640*1020 | R34: =LEFTB(Q34, FIND("*", Q34) - 1) -> 1020 | S34: =MID(Q34, FIND("*", Q34) + 1, FIND("*", Q34, FIND("*", Q34) + 1) - FIND("*", Q34) - 1) -> 640 | T34: =RIGHTB(Q34, LEN(Q34) - FIND("*", Q34, FIND("*", Q34) + 1)) -> 1020 | U34: =DC34 -> 0 | V34: В помещении | W34: G3/4 | Z34: 60 | AA34: 1000 | AB34: Воздушное | AD34: Похож на Atlas Copco GA 7,5 7,5 | AE34: Воздух | AF34: ≤3 | AG34: 105 | AH34: 6.5 | AJ34: +15 ℃ к t°C окр. среды | AK34: 10 | AM34: 117 | AN34: ≤65 | AO34: Контроллер | AP34: Датчик температуры, датчик давления, защита от перегрузки по току, защита от перекоса фаз, защита от некорректного напряжения | AQ34: Измерения энергопотребления, включение/выключение по расписанию, управление инвертором (при его наличии); защита двигателя от обрыва фазы, перегрузки по току, дисбаланса тока, высокого и низкого напряжения. | AR34: На раме, в кожухе | AS34: прямой | AT34: Электрический | AU34: Винтовой | AV34: Маслозаполненный | AW34: Асинхронный | AX34: Дросселирование на всасывании + пуск-остановка | AY34: Звезда-треугольник (Y-△) | AZ34: Нет | BB34: 2200 | BG34: 380 В, 50 Гц | BH34: F | BI34: IE3 | BJ34: IP23 | BK34: 3х10 | BM34: 0.45 | BU34: В наличии | BV34: =VLOOKUP(A34,'[1]02. Электрические винтовые'!$G:$CD,76,0) -> 189321.31
A35: ЗИФ-00043944 | B35: ЗИФ-СВЭ-1,9/1,0 ШМ-R | C35: Компрессор ЗИФ 11 кВт, 1,9 м3/мин, 10 бар винтовой. ЗИФ-СВЭ-1,9/1,0 ШМ-R | D35: 1.55 | G35: 0 | H35: 10 | J35: 11 | P35: +1...+45 °С | Q35: 1020*640*1020 | R35: =LEFTB(Q35, FIND("*", Q35) - 1) -> 1020 | S35: =MID(Q35, FIND("*", Q35) + 1, FIND("*", Q35, FIND("*", Q35) + 1) - FIND("*", Q35) - 1) -> 640 | T35: =RIGHTB(Q35, LEN(Q35) - FIND("*", Q35, FIND("*", Q35) + 1)) -> 1020 | U35: =DC35 -> 0 | V35: В помещении | W35: G3/4 | Z35: 60 | AA35: 1000 | AB35: Воздушное | AD35: Похож на Atlas Copco GA 11 10 | AE35: Воздух | AF35: ≤3 | AG35: 105 | AH35: 6.5 | AJ35: +15 ℃ к t°C окр. среды | AK35: 10 | AM35: 117 | AN35: ≤65 | AO35: Контроллер | AP35: Датчик температуры, датчик давления, защита от перегрузки по току, защита от перекоса фаз, защита от некорректного напряжения | AQ35: Измерения энергопотребления, включение/выключение по расписанию, управление инвертором (при его наличии); защита двигателя от обрыва фазы, перегрузки по току, дисбаланса тока, высокого и низкого напряжения. | AR35: На раме, в кожухе | AS35: прямой | AT35: Электрический | AU35: Винтовой | AV35: Маслозаполненный | AW35: Асинхронный | AX35: Дросселирование на всасывании + пуск-остановка | AY35: Звезда-треугольник (Y-△) | AZ35: Нет | BB35: 2200 | BG35: 380 В, 50 Гц | BH35: F | BI35: IE3 | BJ35: IP23 | BK35: 3х10 | BM35: 0.45 | BU35: В наличии | BV35: =VLOOKUP(A35,'[1]02. Электрические винтовые'!$G:$CD,76,0) -> 189321.31
A36: ЗИФ-00043945 | B36: ЗИФ-СВЭ-2,5/0,7 ШМ-R | C36: Компрессор ЗИФ 15 кВт, 2,5 м3/мин, 7 бар винтовой. ЗИФ-СВЭ-2,5/0,7 ШМ-R | D36: 2.48 | G36: 0 | H36: 7 | J36: 15 | P36: +1...+45 °С | Q36: 1020*640*1020 | R36: =LEFTB(Q36, FIND("*", Q36) - 1) -> 1020 | S36: =MID(Q36, FIND("*", Q36) + 1, FIND("*", Q36, FIND("*", Q36) + 1) - FIND("*", Q36) - 1) -> 640 | T36: =RIGHTB(Q36, LEN(Q36) - FIND("*", Q36, FIND("*", Q36) + 1)) -> 1020 | U36: =DC36 -> 0 | V36: В помещении | W36: G3/4 | Z36: 60 | AA36: 1000 | AB36: Воздушное | AD36: Похож на Atlas Copco GA 15 7,5 | AE36: Воздух | AF36: ≤3 | AG36: 105 | AH36: 6.5 | AJ36: +15 ℃ к t°C окр. среды | AK36: 10 | AM36: 117 | AN36: ≤65 | AO36: Контроллер | AP36: Датчик температуры, датчик давления, защита от перегрузки по току, защита от перекоса фаз, защита от некорректного напряжения | AQ36: Измерения энергопотребления, включение/выключение по расписанию, управление инвертором (при его наличии); защита двигателя от обрыва фазы, перегрузки по току, дисбаланса тока, высокого и низкого напряжения. | AR36: На раме, в кожухе | AS36: прямой | AT36: Электрический | AU36: Винтовой | AV36: Маслозаполненный | AW36: Асинхронный | AX36: Дросселирование на всасывании + пуск-остановка | AY36: Звезда-треугольник (Y-△) | AZ36: Нет | BB36: 3000 | BG36: 380 В, 50 Гц | BH36: F | BI36: IE3 | BJ36: IP23 | BK36: 3х10 | BM36: 0.45 | BU36: В наличии | BV36: =VLOOKUP(A36,'[1]02. Электрические винтовые'!$G:$CD,76,0) -> 201195.69
A37: ЗИФ-00046760 | B37: ЗИФ-СВЭ-2,4/0,8 ШМ-R | C37: Компрессор ЗИФ 15 кВт, 2,4 м3/мин, 8 бар винтовой. ЗИФ-СВЭ-2,4/0,8 ШМ-R | D37: 2.37 | G37: 0 | H37: 8 | J37: 15 | P37: +1...+45 °С | Q37: 1020*640*1020 | R37: =LEFTB(Q37, FIND("*", Q37) - 1) -> 1020 | S37: =MID(Q37, FIND("*", Q37) + 1, FIND("*", Q37, FIND("*", Q37) + 1) - FIND("*", Q37) - 1) -> 640 | T37: =RIGHTB(Q37, LEN(Q37) - FIND("*", Q37, FIND("*", Q37) + 1)) -> 1020 | U37: =DC37 -> 0 | V37: В помещении | W37: G3/4 | Z37: 60 | AA37: 1000 | AB37: Воздушное | AD37: Похож на Atlas Copco GA 7,5 7,5 | AE37: Воздух | AF37: ≤3 | AG37: 105 | AH37: 6.5 | AJ37: +15 ℃ к t°C окр. среды | AK37: 10 | AM37: 117 | AN37: ≤65 | AO37: Контроллер | AP37: Датчик температуры, датчик давления, защита от перегрузки по току, защита от перекоса фаз, защита от некорректного напряжения | AQ37: Измерения энергопотребления, включение/выключение по расписанию, управление инвертором (при его наличии); защита двигателя от обрыва фазы, перегрузки по току, дисбаланса тока, высокого и низкого напряжения. | AR37: На раме, в кожухе | AS37: прямой | AT37: Электрический | AU37: Винтовой | AV37: Маслозаполненный | AW37: Асинхронный | AX37: Дросселирование на всасывании + пуск-остановка | AY37: Звезда-треугольник (Y-△) | AZ37: Нет | BB37: 3000 | BG37: 380 В, 50 Гц | BH37: F | BI37: IE3 | BJ37: IP23 | BK37: 3х10 | BM37: 0.45 | BU37: В наличии | BV37: =VLOOKUP(A37,'[1]02. Электрические винтовые'!$G:$CD,76,0) -> 201195.69
A38: ЗИФ-00043946 | B38: ЗИФ-СВЭ-2,3/1,0 ШМ-R | C38: Компрессор ЗИФ 15 кВт, 2,3 м3/мин, 10 бар винтовой. ЗИФ-СВЭ-2,3/1,0 ШМ-R | D38: 2.15 | G38: 0 | H38: 10 | J38: 15 | P38: +1...+45 °С | Q38: 1020*640*1020 | R38: =LEFTB(Q38, FIND("*", Q38) - 1) -> 1020 | S38: =MID(Q38, FIND("*", Q38) + 1, FIND("*", Q38, FIND("*", Q38) + 1) - FIND("*", Q38) - 1) -> 640 | T38: =RIGHTB(Q38, LEN(Q38) - FIND("*", Q38, FIND("*", Q38) + 1)) -> 1020 | U38: =DC38 -> 0 | V38: В помещении | W38: G3/4 | Z38: 60 | AA38: 1000 | AB38: Воздушное | AD38: Похож на Atlas Copco GA 15 10 | AE38: Воздух | AF38: ≤3 | AG38: 105 | AH38: 6.5 | AJ38: +15 ℃ к t°C окр. среды | AK38: 10 | AM38: 117 | AN38: ≤65 | AO38: Контроллер | AP38: Датчик температуры, датчик давления, защита от перегрузки по току, защита от перекоса фаз, защита от некорректного напряжения | AQ38: Измерения энергопотребления, включение/выключение по расписанию, управление инвертором (при его наличии); защита двигателя от обрыва фазы, перегрузки по току, дисбаланса тока, высокого и низкого напряжения. | AR38: На раме, в кожухе | AS38: прямой | AT38: Электрический | AU38: Винтовой | AV38: Маслозаполненный | AW38: Асинхронный | AX38: Дросселирование на всасывании + пуск-остановка | AY38: Звезда-треугольник (Y-△) | AZ38: Нет | BB38: 3000 | BG38: 380 В, 50 Гц | BH38: F | BI38: IE3 | BJ38: IP23 | BK38: 3х10 | BM38: 0.45 | BU38: В наличии | BV38: =VLOOKUP(A38,'[1]02. Электрические винтовые'!$G:$CD,76,0) -> 201195.69
A39: ЗИФ-00043947 | B39: ЗИФ-СВЭ-3/0,7 ШМ-R | C39: Компрессор ЗИФ 18,5 кВт, 3 м3/мин, 7 бар винтовой. ЗИФ-СВЭ-3/0,7 ШМ-R | D39: 2.88 | G39: 0 | H39: 7 | J39: 18.5 | P39: +1...+45 °С | Q39: 1100*670*1130 | R39: =LEFTB(Q39, FIND("*", Q39) - 1) -> 1100 | S39: =MID(Q39, FIND("*", Q39) + 1, FIND("*", Q39, FIND("*", Q39) + 1) - FIND("*", Q39) - 1) -> 670 | T39: =RIGHTB(Q39, LEN(Q39) - FIND("*", Q39, FIND("*", Q39) + 1)) -> 1130 | U39: =DC39 -> 0 | V39: В помещении | W39: G1 1/4 | Z39: 60 | AA39: 1000 | AB39: Воздушное | AD39: Похож на Atlas Copco GA 18 7,5 | AE39: Воздух | AF39: ≤3 | AG39: 105 | AH39: 6.5 | AJ39: +15 ℃ к t°C окр. среды | AK39: 16 | AM39: 117 | AN39: ≤75 | AO39: Контроллер | AP39: Датчик температуры, датчик давления, защита от перегрузки по току, защита от перекоса фаз, защита от некорректного напряжения | AQ39: Измерения энергопотребления, включение/выключение по расписанию, управление инвертором (при его наличии); защита двигателя от обрыва фазы, перегрузки по току, дисбаланса тока, высокого и низкого напряжения. | AR39: На раме, в кожухе | AS39: прямой | AT39: Электрический | AU39: Винтовой | AV39: Маслозаполненный | AW39: Асинхронный | AX39: Дросселирование на всасывании + пуск-остановка | AY39: Звезда-треугольник (Y-△) | AZ39: Нет | BB39: 3000 | BG39: 380 В, 50 Гц | BH39: F | BI39: IE3 | BJ39: IP23 | BK39: 3х16 | BM39: 0.45 | BU39: В наличии | BV39: =VLOOKUP(A39,'[1]02. Электрические винтовые'!$G:$CD,76,0) -> 294853.19
A40: ЗИФ-00046761 | B40: ЗИФ-СВЭ-2,9/0,8 ШМ-R | C40: Компрессор ЗИФ 18,5 кВт, 2,9 м3/мин, 8 бар винтовой. ЗИФ-СВЭ-2,9/0,8 ШМ-R | D40: 2.87 | G40: 0 | H40: 8 | J40: 18.5 | P40: +1...+45 °С | Q40: 1100*670*1130 | R40: =LEFTB(Q40, FIND("*", Q40) - 1) -> 1100 | S40: =MID(Q40, FIND("*", Q40) + 1, FIND("*", Q40, FIND("*", Q40) + 1) - FIND("*", Q40) - 1) -> 670 | T40: =RIGHTB(Q40, LEN(Q40) - FIND("*", Q40, FIND("*", Q40) + 1)) -> 1130 | U40: =DC40 -> 0 | V40: В помещении | W40: G1 1/4 | Z40: 60 | AA40: 1000 | AB40: Воздушное | AD40: Похож на Atlas Copco GA 18 7,5 | AE40: Воздух | AF40: ≤3 | AG40: 105 | AH40: 6.5 | AJ40: +15 ℃ к t°C окр. среды | AK40: 16 | AM40: 117 | AN40: ≤75 | AO40: Контроллер | AP40: Датчик температуры, датчик давления, защита от перегрузки по току, защита от перекоса фаз, защита от некорректного напряжения | AQ40: Измерения энергопотребления, включение/выключение по расписанию, управление инвертором (при его наличии); защита двигателя от обрыва фазы, перегрузки по току, дисбаланса тока, высокого и низкого напряжения. | AR40: На раме, в кожухе | AS40: прямой | AT40: Электрический | AU40: Винтовой | AV40: Маслозаполненный | AW40: Асинхронный | AX40: Дросселирование на всасывании + пуск-остановка | AY40: Звезда-треугольник (Y-△) | AZ40: Нет | BB40: 3000 | BG40: 380 В, 50 Гц | BH40: F | BI40: IE3 | BJ40: IP23 | BK40: 3х16 | BM40: 0.45 | BU40: В наличии | BV40: =VLOOKUP(A40,'[1]02. Электрические винтовые'!$G:$CD,76,0) -> 294853.19
A41: ЗИФ-00043948 | B41: ЗИФ-СВЭ-2,5/1,0 ШМ-R | C41: Компрессор ЗИФ 18,5 кВт, 2,5 м3/мин, 10 бар винтовой. ЗИФ-СВЭ-2,5/1,0 ШМ-R | D41: 2.85 | G41: 0 | H41: 10 | J41: 18.5 | P41: +1...+45 °С | Q41: 1100*670*1130 | R41: =LEFTB(Q41, FIND("*", Q41) - 1) -> 1100 | S41: =MID(Q41, FIND("*", Q41) + 1, FIND("*", Q41, FIND("*", Q41) + 1) - FIND("*", Q41) - 1) -> 670 | T41: =RIGHTB(Q41, LEN(Q41) - FIND("*", Q41, FIND("*", Q41) + 1)) -> 1130 | U41: =DC41 -> 0 | V41: В помещении | W41: G1 1/4 | Z41: 60 | AA41: 1000 | AB41: Воздушное | AD41: Похож на Atlas Copco GA 18 10 | AE41: Воздух | AF41: ≤3 | AG41: 105 | AH41: 6.5 | AJ41: +15 ℃ к t°C окр. среды | AK41: 16 | AM41: 117 | AN41: ≤75 | AO41: Контроллер | AP41: Датчик температуры, датчик давления, защита от перегрузки по току, защита от перекоса фаз, защита от некорректного напряжения | AQ41: Измерения энергопотребления, включение/выключение по расписанию, управление инвертором (при его наличии); защита двигателя от обрыва фазы, перегрузки по току, дисбаланса тока, высокого и низкого напряжения. | AR41: На раме, в кожухе | AS41: прямой | AT41: Электрический | AU41: Винтовой | AV41: Маслозаполненный | AW41: Асинхронный | AX41: Дросселирование на всасывании + пуск-остановка | AY41: Звезда-треугольник (Y-△) | AZ41: Нет | BB41: 3000 | BG41: 380 В, 50 Гц | BH41: F | BI41: IE3 | BJ41: IP23 | BK41: 3х16 | BM41: 0.45 | BU41: В наличии | BV41: =VLOOKUP(A41,'[1]02. Электрические винтовые'!$G:$CD,76,0) -> 294853.19
... A50: ЗИФ-00043954 | B50: ЗИФ-СВЭ-6/1,0 ШМ-R | C50: Компрессор ЗИФ 37 кВт, 6 м3/мин, 10 бар винтовой. ЗИФ-СВЭ-6/1,0 ШМ-R | D50: 5.62 | G50: 0 | H50: 10 | J50: 37 | P50: +1...+45 °С | Q50: 1220*850*1240 | R50: =LEFTB(Q50, FIND("*", Q50) - 1) -> 1220 | S50: =MID(Q50, FIND("*", Q50) + 1, FIND("*", Q50, FIND("*", Q50) + 1) - FIND("*", Q50) - 1) -> 850 | T50: =RIGHTB(Q50, LEN(Q50) - FIND("*", Q50, FIND("*", Q50) + 1)) -> 1240 | U50: =DC50 -> 0 | V50: В помещении | W50: G1 1/2 | Z50: 60 | AA50: 1000 | AB50: Воздушное | AD50: Похож на Atlas Copco GA 37 10 | AE50: Воздух | AF50: ≤3 | AG50: 105 | AH50: 6.5 | AJ50: +15 ℃ к t°C окр. среды | AK50: 18 | AM50: 127 | AN50: ≤75 | AO50: Контроллер | AP50: Датчик температуры, датчик давления, защита от перегрузки по току, защита от перекоса фаз, защита от некорректного напряжения | AQ50: Измерения энергопотребления, включение/выключение по расписанию, управление инвертором (при его наличии); защита двигателя от обрыва фазы, перегрузки по току, дисбаланса тока, высокого и низкого напряжения. | AR50: На раме, в кожухе | AS50: прямой | AT50: Электрический | AU50: Винтовой | AV50: Маслозаполненный | AW50: Асинхронный | AX50: Дросселирование на всасывании + пуск-остановка | AY50: Звезда-треугольник (Y-△) | AZ50: Нет | BB50: 3000 | BG50: 380 В, 50 Гц | BH50: F | BI50: IE3 | BJ50: IP23 | BK50: 3х35 | BM50: 0.86 | BU50: В наличии | BV50: =VLOOKUP(A50,'[1]02. Электрические винтовые'!$G:$CD,76,0) -> 377721.21
